BEGIN:VCALENDAR
VERSION:2.0
PRODID:-//Hausotter Grundschule - ECPv6.15.20//NONSGML v1.0//EN
CALSCALE:GREGORIAN
METHOD:PUBLISH
X-WR-CALNAME:Hausotter Grundschule
X-ORIGINAL-URL:https://hausotter-grundschule.de
X-WR-CALDESC:Veranstaltungen für Hausotter Grundschule
REFRESH-INTERVAL;VALUE=DURATION:PT1H
X-Robots-Tag:noindex
X-PUBLISHED-TTL:PT1H
BEGIN:VTIMEZONE
TZID:Europe/Berlin
BEGIN:DAYLIGHT
TZOFFSETFROM:+0100
TZOFFSETTO:+0200
TZNAME:CEST
DTSTART:20210328T010000
END:DAYLIGHT
BEGIN:STANDARD
TZOFFSETFROM:+0200
TZOFFSETTO:+0100
TZNAME:CET
DTSTART:20211031T010000
END:STANDARD
BEGIN:DAYLIGHT
TZOFFSETFROM:+0100
TZOFFSETTO:+0200
TZNAME:CEST
DTSTART:20220327T010000
END:DAYLIGHT
BEGIN:STANDARD
TZOFFSETFROM:+0200
TZOFFSETTO:+0100
TZNAME:CET
DTSTART:20221030T010000
END:STANDARD
BEGIN:DAYLIGHT
TZOFFSETFROM:+0100
TZOFFSETTO:+0200
TZNAME:CEST
DTSTART:20230326T010000
END:DAYLIGHT
BEGIN:STANDARD
TZOFFSETFROM:+0200
TZOFFSETTO:+0100
TZNAME:CET
DTSTART:20231029T010000
END:STANDARD
END:VTIMEZONE
BEGIN:VEVENT
DTSTART;VALUE=DATE:20220822
DTEND;VALUE=DATE:20220903
DTSTAMP:20260424T172425
CREATED:20220829T105407Z
LAST-MODIFIED:20220829T105416Z
UID:7986-1661126400-1662163199@hausotter-grundschule.de
SUMMARY:Sozial- und Methodenwochen
DESCRIPTION:
URL:https://hausotter-grundschule.de/veranstaltung/sozial-und-methodenwochen/
CATEGORIES:Hausotter
END:VEVENT
BEGIN:VEVENT
DTSTART;TZID=Europe/Berlin:20220827T083000
DTEND;TZID=Europe/Berlin:20220827T083000
DTSTAMP:20260424T172425
CREATED:20220824T115409Z
LAST-MODIFIED:20220825T094625Z
UID:7978-1661589000-1661589000@hausotter-grundschule.de
SUMMARY:Einschulung
DESCRIPTION:Die Einschulung an der Hausotter Grundschule findet in der Turnhalle statt.
URL:https://hausotter-grundschule.de/veranstaltung/test-2/
LOCATION:Hausotter Grundschule
CATEGORIES:Hausotter
END:VEVENT
END:VCALENDAR