BEGIN:VCALENDAR
VERSION:2.0
PRODID:-//Hausotter Grundschule - ECPv6.15.17//NONSGML v1.0//EN
CALSCALE:GREGORIAN
METHOD:PUBLISH
X-WR-CALNAME:Hausotter Grundschule
X-ORIGINAL-URL:https://hausotter-grundschule.de
X-WR-CALDESC:Veranstaltungen für Hausotter Grundschule
REFRESH-INTERVAL;VALUE=DURATION:PT1H
X-Robots-Tag:noindex
X-PUBLISHED-TTL:PT1H
BEGIN:VTIMEZONE
TZID:Europe/Berlin
BEGIN:DAYLIGHT
TZOFFSETFROM:+0100
TZOFFSETTO:+0200
TZNAME:CEST
DTSTART:20220327T010000
END:DAYLIGHT
BEGIN:STANDARD
TZOFFSETFROM:+0200
TZOFFSETTO:+0100
TZNAME:CET
DTSTART:20221030T010000
END:STANDARD
BEGIN:DAYLIGHT
TZOFFSETFROM:+0100
TZOFFSETTO:+0200
TZNAME:CEST
DTSTART:20230326T010000
END:DAYLIGHT
BEGIN:STANDARD
TZOFFSETFROM:+0200
TZOFFSETTO:+0100
TZNAME:CET
DTSTART:20231029T010000
END:STANDARD
BEGIN:DAYLIGHT
TZOFFSETFROM:+0100
TZOFFSETTO:+0200
TZNAME:CEST
DTSTART:20240331T010000
END:DAYLIGHT
BEGIN:STANDARD
TZOFFSETFROM:+0200
TZOFFSETTO:+0100
TZNAME:CET
DTSTART:20241027T010000
END:STANDARD
END:VTIMEZONE
BEGIN:VEVENT
DTSTART;VALUE=DATE:20230427
DTEND;VALUE=DATE:20230428
DTSTAMP:20260422T031201
CREATED:20221011T113254Z
LAST-MODIFIED:20221011T113254Z
UID:8190-1682553600-1682639999@hausotter-grundschule.de
SUMMARY:VERA 3 - Deutsch
DESCRIPTION:
URL:https://hausotter-grundschule.de/veranstaltung/vera-3-deutsch/
CATEGORIES:Hausotter
END:VEVENT
BEGIN:VEVENT
DTSTART;VALUE=DATE:20230427
DTEND;VALUE=DATE:20230428
DTSTAMP:20260422T031201
CREATED:20221011T113326Z
LAST-MODIFIED:20221011T113326Z
UID:8192-1682553600-1682639999@hausotter-grundschule.de
SUMMARY:3. GEV
DESCRIPTION:
URL:https://hausotter-grundschule.de/veranstaltung/3-gev/
CATEGORIES:Hausotter
END:VEVENT
END:VCALENDAR