BEGIN:VCALENDAR
VERSION:2.0
PRODID:-//Hausotter Grundschule - ECPv6.15.20//NONSGML v1.0//EN
CALSCALE:GREGORIAN
METHOD:PUBLISH
X-ORIGINAL-URL:https://hausotter-grundschule.de
X-WR-CALDESC:Veranstaltungen für Hausotter Grundschule
REFRESH-INTERVAL;VALUE=DURATION:PT1H
X-Robots-Tag:noindex
X-PUBLISHED-TTL:PT1H
BEGIN:VTIMEZONE
TZID:Europe/Berlin
BEGIN:DAYLIGHT
TZOFFSETFROM:+0100
TZOFFSETTO:+0200
TZNAME:CEST
DTSTART:20200329T010000
END:DAYLIGHT
BEGIN:STANDARD
TZOFFSETFROM:+0200
TZOFFSETTO:+0100
TZNAME:CET
DTSTART:20201025T010000
END:STANDARD
BEGIN:DAYLIGHT
TZOFFSETFROM:+0100
TZOFFSETTO:+0200
TZNAME:CEST
DTSTART:20210328T010000
END:DAYLIGHT
BEGIN:STANDARD
TZOFFSETFROM:+0200
TZOFFSETTO:+0100
TZNAME:CET
DTSTART:20211031T010000
END:STANDARD
BEGIN:DAYLIGHT
TZOFFSETFROM:+0100
TZOFFSETTO:+0200
TZNAME:CEST
DTSTART:20220327T010000
END:DAYLIGHT
BEGIN:STANDARD
TZOFFSETFROM:+0200
TZOFFSETTO:+0100
TZNAME:CET
DTSTART:20221030T010000
END:STANDARD
END:VTIMEZONE
BEGIN:VEVENT
DTSTART;VALUE=DATE:20210910
DTEND;VALUE=DATE:20210911
DTSTAMP:20260425T061724
CREATED:20210819T144931Z
LAST-MODIFIED:20210819T144932Z
UID:7594-1631232000-1631318399@hausotter-grundschule.de
SUMMARY:Beauty Day
DESCRIPTION:
URL:https://hausotter-grundschule.de/veranstaltung/beauty-day/
END:VEVENT
BEGIN:VEVENT
DTSTART;VALUE=DATE:20210916
DTEND;VALUE=DATE:20210917
DTSTAMP:20260425T061724
CREATED:20220827T144959Z
LAST-MODIFIED:20220824T114641Z
UID:7597-1631750400-1631750400@hausotter-grundschule.de
SUMMARY:1. Schulkonferenz
DESCRIPTION:
URL:https://hausotter-grundschule.de/veranstaltung/1-schulkonferenz/
CATEGORIES:Ferien Berlin
END:VEVENT
BEGIN:VEVENT
DTSTART;VALUE=DATE:20210923
DTEND;VALUE=DATE:20210924
DTSTAMP:20260425T061724
CREATED:20220919T145019Z
LAST-MODIFIED:20220824T113323Z
UID:7600-1632355200-1632355200@hausotter-grundschule.de
SUMMARY:Sponsorenlauf mit Grillfest
DESCRIPTION:
URL:https://hausotter-grundschule.de/veranstaltung/sponsorenlauf-mit-grillfest/
CATEGORIES:Ferien Berlin
END:VEVENT
END:VCALENDAR