BEGIN:VCALENDAR
VERSION:2.0
PRODID:-//Hausotter Grundschule - ECPv6.15.17//NONSGML v1.0//EN
CALSCALE:GREGORIAN
METHOD:PUBLISH
X-WR-CALNAME:Hausotter Grundschule
X-ORIGINAL-URL:https://hausotter-grundschule.de
X-WR-CALDESC:Veranstaltungen für Hausotter Grundschule
REFRESH-INTERVAL;VALUE=DURATION:PT1H
X-Robots-Tag:noindex
X-PUBLISHED-TTL:PT1H
BEGIN:VTIMEZONE
TZID:Europe/Berlin
BEGIN:DAYLIGHT
TZOFFSETFROM:+0100
TZOFFSETTO:+0200
TZNAME:CEST
DTSTART:20220327T010000
END:DAYLIGHT
BEGIN:STANDARD
TZOFFSETFROM:+0200
TZOFFSETTO:+0100
TZNAME:CET
DTSTART:20221030T010000
END:STANDARD
BEGIN:DAYLIGHT
TZOFFSETFROM:+0100
TZOFFSETTO:+0200
TZNAME:CEST
DTSTART:20230326T010000
END:DAYLIGHT
BEGIN:STANDARD
TZOFFSETFROM:+0200
TZOFFSETTO:+0100
TZNAME:CET
DTSTART:20231029T010000
END:STANDARD
BEGIN:DAYLIGHT
TZOFFSETFROM:+0100
TZOFFSETTO:+0200
TZNAME:CEST
DTSTART:20240331T010000
END:DAYLIGHT
BEGIN:STANDARD
TZOFFSETFROM:+0200
TZOFFSETTO:+0100
TZNAME:CET
DTSTART:20241027T010000
END:STANDARD
END:VTIMEZONE
BEGIN:VEVENT
DTSTART;TZID=Europe/Berlin:20230105T161500
DTEND;TZID=Europe/Berlin:20230105T184500
DTSTAMP:20260422T062025
CREATED:20220831T151655Z
LAST-MODIFIED:20220831T151655Z
UID:8029-1672935300-1672944300@hausotter-grundschule.de
SUMMARY:2. Gesamtkonferenz
DESCRIPTION:
URL:https://hausotter-grundschule.de/veranstaltung/2-gesamtkonferenz/
LOCATION:Turnhalle
CATEGORIES:Hausotter
END:VEVENT
BEGIN:VEVENT
DTSTART;TZID=Europe/Berlin:20230112T134500
DTEND;TZID=Europe/Berlin:20230112T180000
DTSTAMP:20260422T062025
CREATED:20220831T151759Z
LAST-MODIFIED:20220831T151814Z
UID:8032-1673531100-1673546400@hausotter-grundschule.de
SUMMARY:Klassenkonferenz zur Förderprognose
DESCRIPTION:2.GEV
URL:https://hausotter-grundschule.de/veranstaltung/klassenkonferenz-zur-foerderprognose/
LOCATION:Konferenzraum
CATEGORIES:Hausotter
END:VEVENT
BEGIN:VEVENT
DTSTART;TZID=Europe/Berlin:20230116T134500
DTEND;TZID=Europe/Berlin:20230116T180000
DTSTAMP:20260422T062025
CREATED:20220831T151904Z
LAST-MODIFIED:20220831T151904Z
UID:8035-1673876700-1673892000@hausotter-grundschule.de
SUMMARY:Zensurenkonferenzen
DESCRIPTION:
URL:https://hausotter-grundschule.de/veranstaltung/zensurenkonferenzen/
LOCATION:Konferenzraum
CATEGORIES:Hausotter
END:VEVENT
BEGIN:VEVENT
DTSTART;TZID=Europe/Berlin:20230119T173000
DTEND;TZID=Europe/Berlin:20230119T200000
DTSTAMP:20260422T062025
CREATED:20220831T152000Z
LAST-MODIFIED:20220831T152000Z
UID:8037-1674149400-1674158400@hausotter-grundschule.de
SUMMARY:2. Schulkonferenz
DESCRIPTION:
URL:https://hausotter-grundschule.de/veranstaltung/2-schulkonferenz/
LOCATION:Konferenzraum
CATEGORIES:Hausotter
END:VEVENT
BEGIN:VEVENT
DTSTART;TZID=Europe/Berlin:20230127T080000
DTEND;TZID=Europe/Berlin:20230127T105500
DTSTAMP:20260422T062025
CREATED:20220831T152133Z
LAST-MODIFIED:20220831T152133Z
UID:8041-1674806400-1674816900@hausotter-grundschule.de
SUMMARY:Ausgabe der Halbjahreszeugnisse
DESCRIPTION:
URL:https://hausotter-grundschule.de/veranstaltung/ausgabe-der-halbjahreszeugnisse/
CATEGORIES:Hausotter
END:VEVENT
BEGIN:VEVENT
DTSTART;VALUE=DATE:20230130
DTEND;VALUE=DATE:20230204
DTSTAMP:20260422T062025
CREATED:20220831T152236Z
LAST-MODIFIED:20220831T152236Z
UID:8043-1675036800-1675468799@hausotter-grundschule.de
SUMMARY:Winterferien
DESCRIPTION:
URL:https://hausotter-grundschule.de/veranstaltung/winterferien/
CATEGORIES:Ferien Berlin
END:VEVENT
END:VCALENDAR