BEGIN:VCALENDAR
VERSION:2.0
PRODID:-//Hausotter Grundschule - ECPv6.15.17//NONSGML v1.0//EN
CALSCALE:GREGORIAN
METHOD:PUBLISH
X-WR-CALNAME:Hausotter Grundschule
X-ORIGINAL-URL:https://hausotter-grundschule.de
X-WR-CALDESC:Veranstaltungen für Hausotter Grundschule
REFRESH-INTERVAL;VALUE=DURATION:PT1H
X-Robots-Tag:noindex
X-PUBLISHED-TTL:PT1H
BEGIN:VTIMEZONE
TZID:Europe/Berlin
BEGIN:DAYLIGHT
TZOFFSETFROM:+0100
TZOFFSETTO:+0200
TZNAME:CEST
DTSTART:20220327T010000
END:DAYLIGHT
BEGIN:STANDARD
TZOFFSETFROM:+0200
TZOFFSETTO:+0100
TZNAME:CET
DTSTART:20221030T010000
END:STANDARD
BEGIN:DAYLIGHT
TZOFFSETFROM:+0100
TZOFFSETTO:+0200
TZNAME:CEST
DTSTART:20230326T010000
END:DAYLIGHT
BEGIN:STANDARD
TZOFFSETFROM:+0200
TZOFFSETTO:+0100
TZNAME:CET
DTSTART:20231029T010000
END:STANDARD
BEGIN:DAYLIGHT
TZOFFSETFROM:+0100
TZOFFSETTO:+0200
TZNAME:CEST
DTSTART:20240331T010000
END:DAYLIGHT
BEGIN:STANDARD
TZOFFSETFROM:+0200
TZOFFSETTO:+0100
TZNAME:CET
DTSTART:20241027T010000
END:STANDARD
END:VTIMEZONE
BEGIN:VEVENT
DTSTART;VALUE=DATE:20230501
DTEND;VALUE=DATE:20230502
DTSTAMP:20260422T000648
CREATED:20221011T113411Z
LAST-MODIFIED:20221011T113934Z
UID:8194-1682899200-1682985599@hausotter-grundschule.de
SUMMARY:Tag der Arbeit
DESCRIPTION:Unterrichtsfreier Tag.
URL:https://hausotter-grundschule.de/veranstaltung/tag-der-arbeit-2/
END:VEVENT
BEGIN:VEVENT
DTSTART;VALUE=DATE:20230503
DTEND;VALUE=DATE:20230504
DTSTAMP:20260422T000648
CREATED:20221011T113504Z
LAST-MODIFIED:20221011T113504Z
UID:8196-1683072000-1683158399@hausotter-grundschule.de
SUMMARY:VERA 3 - Deutsch
DESCRIPTION:
URL:https://hausotter-grundschule.de/veranstaltung/vera-3-deutsch-2/
CATEGORIES:Ferien Berlin
END:VEVENT
BEGIN:VEVENT
DTSTART;TZID=Europe/Berlin:20230504T173000
DTEND;TZID=Europe/Berlin:20230504T200000
DTSTAMP:20260422T000648
CREATED:20221011T113621Z
LAST-MODIFIED:20221011T113621Z
UID:8198-1683221400-1683230400@hausotter-grundschule.de
SUMMARY:3. SK
DESCRIPTION:
URL:https://hausotter-grundschule.de/veranstaltung/3-sk/
LOCATION:Konferenzraum
CATEGORIES:Hausotter
END:VEVENT
BEGIN:VEVENT
DTSTART;VALUE=DATE:20230511
DTEND;VALUE=DATE:20230512
DTSTAMP:20260422T000648
CREATED:20221011T113716Z
LAST-MODIFIED:20221011T113716Z
UID:8200-1683763200-1683849599@hausotter-grundschule.de
SUMMARY:Schulspiel
DESCRIPTION:
URL:https://hausotter-grundschule.de/veranstaltung/schulspiel/
LOCATION:Sonderplan
CATEGORIES:Hausotter
END:VEVENT
BEGIN:VEVENT
DTSTART;VALUE=DATE:20230512
DTEND;VALUE=DATE:20230513
DTSTAMP:20260422T000648
CREATED:20221011T113742Z
LAST-MODIFIED:20221011T113742Z
UID:8202-1683849600-1683935999@hausotter-grundschule.de
SUMMARY:Schulspiel
DESCRIPTION:
URL:https://hausotter-grundschule.de/veranstaltung/schulspiel-2/
LOCATION:Sonderplan
CATEGORIES:Hausotter
END:VEVENT
BEGIN:VEVENT
DTSTART;VALUE=DATE:20230518
DTEND;VALUE=DATE:20230520
DTSTAMP:20260422T000648
CREATED:20221011T113901Z
LAST-MODIFIED:20221011T113901Z
UID:8204-1684368000-1684540799@hausotter-grundschule.de
SUMMARY:Christi Himmelfahrt
DESCRIPTION:Unterrichtsfreie Tage.
URL:https://hausotter-grundschule.de/veranstaltung/christi-himmelfahrt-2/
END:VEVENT
BEGIN:VEVENT
DTSTART;VALUE=DATE:20230525
DTEND;VALUE=DATE:20230526
DTSTAMP:20260422T000648
CREATED:20221011T114008Z
LAST-MODIFIED:20221011T114008Z
UID:8206-1684972800-1685059199@hausotter-grundschule.de
SUMMARY:Bundesjugendspiele
DESCRIPTION:
URL:https://hausotter-grundschule.de/veranstaltung/bundesjugendspiele/
CATEGORIES:Hausotter
END:VEVENT
BEGIN:VEVENT
DTSTART;VALUE=DATE:20230526
DTEND;VALUE=DATE:20230527
DTSTAMP:20260422T000648
CREATED:20221011T114046Z
LAST-MODIFIED:20221011T114046Z
UID:8208-1685059200-1685145599@hausotter-grundschule.de
SUMMARY:Sport- Spielefest
DESCRIPTION:
URL:https://hausotter-grundschule.de/veranstaltung/sport-spielefest/
CATEGORIES:Hausotter
END:VEVENT
BEGIN:VEVENT
DTSTART;VALUE=DATE:20230529
DTEND;VALUE=DATE:20230531
DTSTAMP:20260422T000648
CREATED:20221011T114142Z
LAST-MODIFIED:20221011T114142Z
UID:8210-1685318400-1685491199@hausotter-grundschule.de
SUMMARY:Pfingsten
DESCRIPTION:Unterrichtsfreie Tage.
URL:https://hausotter-grundschule.de/veranstaltung/pfingsten-3/
END:VEVENT
END:VCALENDAR