BEGIN:VCALENDAR
VERSION:2.0
PRODID:-//Hausotter Grundschule - ECPv6.15.17//NONSGML v1.0//EN
CALSCALE:GREGORIAN
METHOD:PUBLISH
X-WR-CALNAME:Hausotter Grundschule
X-ORIGINAL-URL:https://hausotter-grundschule.de
X-WR-CALDESC:Veranstaltungen für Hausotter Grundschule
REFRESH-INTERVAL;VALUE=DURATION:PT1H
X-Robots-Tag:noindex
X-PUBLISHED-TTL:PT1H
BEGIN:VTIMEZONE
TZID:Europe/Berlin
BEGIN:DAYLIGHT
TZOFFSETFROM:+0100
TZOFFSETTO:+0200
TZNAME:CEST
DTSTART:20220327T010000
END:DAYLIGHT
BEGIN:STANDARD
TZOFFSETFROM:+0200
TZOFFSETTO:+0100
TZNAME:CET
DTSTART:20221030T010000
END:STANDARD
BEGIN:DAYLIGHT
TZOFFSETFROM:+0100
TZOFFSETTO:+0200
TZNAME:CEST
DTSTART:20230326T010000
END:DAYLIGHT
BEGIN:STANDARD
TZOFFSETFROM:+0200
TZOFFSETTO:+0100
TZNAME:CET
DTSTART:20231029T010000
END:STANDARD
BEGIN:DAYLIGHT
TZOFFSETFROM:+0100
TZOFFSETTO:+0200
TZNAME:CEST
DTSTART:20240331T010000
END:DAYLIGHT
BEGIN:STANDARD
TZOFFSETFROM:+0200
TZOFFSETTO:+0100
TZNAME:CET
DTSTART:20241027T010000
END:STANDARD
END:VTIMEZONE
BEGIN:VEVENT
DTSTART;TZID=Europe/Berlin:20230608T161500
DTEND;TZID=Europe/Berlin:20230608T184500
DTSTAMP:20260421T222703
CREATED:20221011T114916Z
LAST-MODIFIED:20221011T114916Z
UID:8212-1686240900-1686249900@hausotter-grundschule.de
SUMMARY:4. Gesamtkonferenz
DESCRIPTION:
URL:https://hausotter-grundschule.de/veranstaltung/4-gesamtkonferenz/
LOCATION:Turnhalle
CATEGORIES:Hausotter
END:VEVENT
BEGIN:VEVENT
DTSTART;VALUE=DATE:20230615
DTEND;VALUE=DATE:20230616
DTSTAMP:20260421T222703
CREATED:20221011T115044Z
LAST-MODIFIED:20221011T115044Z
UID:8216-1686787200-1686873599@hausotter-grundschule.de
SUMMARY:4. GEV
DESCRIPTION:
URL:https://hausotter-grundschule.de/veranstaltung/4-gev/
CATEGORIES:Hausotter
END:VEVENT
BEGIN:VEVENT
DTSTART;TZID=Europe/Berlin:20230615T134500
DTEND;TZID=Europe/Berlin:20230615T180000
DTSTAMP:20260421T222703
CREATED:20221011T115003Z
LAST-MODIFIED:20221011T115003Z
UID:8214-1686836700-1686852000@hausotter-grundschule.de
SUMMARY:Zensurenkonferenzen
DESCRIPTION:
URL:https://hausotter-grundschule.de/veranstaltung/zensurenkonferenzen-2/
LOCATION:Aula
CATEGORIES:Hausotter
END:VEVENT
BEGIN:VEVENT
DTSTART;TZID=Europe/Berlin:20230616T120000
DTEND;TZID=Europe/Berlin:20230616T150000
DTSTAMP:20260421T222703
CREATED:20221011T115128Z
LAST-MODIFIED:20221011T115128Z
UID:8218-1686916800-1686927600@hausotter-grundschule.de
SUMMARY:Sponsorenlauf
DESCRIPTION:
URL:https://hausotter-grundschule.de/veranstaltung/sponsorenlauf/
LOCATION:Schulgelände
CATEGORIES:Hausotter
END:VEVENT
BEGIN:VEVENT
DTSTART;TZID=Europe/Berlin:20230619T173000
DTEND;TZID=Europe/Berlin:20230619T200000
DTSTAMP:20260421T222703
CREATED:20221011T115222Z
LAST-MODIFIED:20221011T115222Z
UID:8220-1687195800-1687204800@hausotter-grundschule.de
SUMMARY:Elternabend Schulanfänger*innen
DESCRIPTION:
URL:https://hausotter-grundschule.de/veranstaltung/elternabend-schulanfaengerinnen/
CATEGORIES:Hausotter
END:VEVENT
BEGIN:VEVENT
DTSTART;TZID=Europe/Berlin:20230622T173000
DTEND;TZID=Europe/Berlin:20230622T200000
DTSTAMP:20260421T222703
CREATED:20221011T115313Z
LAST-MODIFIED:20221011T115313Z
UID:8222-1687455000-1687464000@hausotter-grundschule.de
SUMMARY:4. Schulkonferenz
DESCRIPTION:
URL:https://hausotter-grundschule.de/veranstaltung/4-schulkonferenz/
LOCATION:Konferenzraum
CATEGORIES:Hausotter
END:VEVENT
END:VCALENDAR