BEGIN:VCALENDAR
VERSION:2.0
PRODID:-//Hausotter Grundschule - ECPv6.15.17//NONSGML v1.0//EN
CALSCALE:GREGORIAN
METHOD:PUBLISH
X-WR-CALNAME:Hausotter Grundschule
X-ORIGINAL-URL:https://hausotter-grundschule.de
X-WR-CALDESC:Veranstaltungen für Hausotter Grundschule
REFRESH-INTERVAL;VALUE=DURATION:PT1H
X-Robots-Tag:noindex
X-PUBLISHED-TTL:PT1H
BEGIN:VTIMEZONE
TZID:Europe/Berlin
BEGIN:DAYLIGHT
TZOFFSETFROM:+0100
TZOFFSETTO:+0200
TZNAME:CEST
DTSTART:20220327T010000
END:DAYLIGHT
BEGIN:STANDARD
TZOFFSETFROM:+0200
TZOFFSETTO:+0100
TZNAME:CET
DTSTART:20221030T010000
END:STANDARD
BEGIN:DAYLIGHT
TZOFFSETFROM:+0100
TZOFFSETTO:+0200
TZNAME:CEST
DTSTART:20230326T010000
END:DAYLIGHT
BEGIN:STANDARD
TZOFFSETFROM:+0200
TZOFFSETTO:+0100
TZNAME:CET
DTSTART:20231029T010000
END:STANDARD
BEGIN:DAYLIGHT
TZOFFSETFROM:+0100
TZOFFSETTO:+0200
TZNAME:CEST
DTSTART:20240331T010000
END:DAYLIGHT
BEGIN:STANDARD
TZOFFSETFROM:+0200
TZOFFSETTO:+0100
TZNAME:CET
DTSTART:20241027T010000
END:STANDARD
END:VTIMEZONE
BEGIN:VEVENT
DTSTART;TZID=Europe/Berlin:20231023T080000
DTEND;TZID=Europe/Berlin:20231103T080000
DTSTAMP:20260421T150045
CREATED:20230917T093345Z
LAST-MODIFIED:20230917T093345Z
UID:8541-1698048000-1698998400@hausotter-grundschule.de
SUMMARY:Herbstferien
DESCRIPTION:
URL:https://hausotter-grundschule.de/veranstaltung/herbstferien-2/
CATEGORIES:Ferien Berlin
END:VEVENT
BEGIN:VEVENT
DTSTART;TZID=Europe/Berlin:20231120T113000
DTEND;TZID=Europe/Berlin:20231120T113000
DTSTAMP:20260421T150045
CREATED:20230917T093627Z
LAST-MODIFIED:20230917T094223Z
UID:8546-1700479800-1700479800@hausotter-grundschule.de
SUMMARY:Personalversammlung
DESCRIPTION:11.30 Uhr ist Unterrichtsschluss.
URL:https://hausotter-grundschule.de/veranstaltung/personalversammlung-2/
CATEGORIES:Hausotter
END:VEVENT
BEGIN:VEVENT
DTSTART;TZID=Europe/Berlin:20231130T153000
DTEND;TZID=Europe/Berlin:20231130T173000
DTSTAMP:20260421T150045
CREATED:20230917T093800Z
LAST-MODIFIED:20230917T093904Z
UID:8548-1701358200-1701365400@hausotter-grundschule.de
SUMMARY:Wintermarkt
DESCRIPTION:
URL:https://hausotter-grundschule.de/veranstaltung/wintermarkt-2/
LOCATION:Schulgelände
CATEGORIES:Hausotter
END:VEVENT
END:VCALENDAR